BEGIN:VCALENDAR
VERSION:2.0
PRODID:-//MOLONGLO VALLEY COMMUNITY FORUM - ECPv6.15.20//NONSGML v1.0//EN
CALSCALE:GREGORIAN
METHOD:PUBLISH
X-WR-CALNAME:MOLONGLO VALLEY COMMUNITY FORUM
X-ORIGINAL-URL:https://mvcommunityforum.org.au
X-WR-CALDESC:Events for MOLONGLO VALLEY COMMUNITY FORUM
REFRESH-INTERVAL;VALUE=DURATION:PT1H
X-Robots-Tag:noindex
X-PUBLISHED-TTL:PT1H
BEGIN:VTIMEZONE
TZID:Australia/Sydney
BEGIN:STANDARD
TZOFFSETFROM:+1100
TZOFFSETTO:+1000
TZNAME:AEST
DTSTART:20200404T160000
END:STANDARD
BEGIN:DAYLIGHT
TZOFFSETFROM:+1000
TZOFFSETTO:+1100
TZNAME:AEDT
DTSTART:20201003T160000
END:DAYLIGHT
BEGIN:STANDARD
TZOFFSETFROM:+1100
TZOFFSETTO:+1000
TZNAME:AEST
DTSTART:20210403T160000
END:STANDARD
BEGIN:DAYLIGHT
TZOFFSETFROM:+1000
TZOFFSETTO:+1100
TZNAME:AEDT
DTSTART:20211002T160000
END:DAYLIGHT
BEGIN:STANDARD
TZOFFSETFROM:+1100
TZOFFSETTO:+1000
TZNAME:AEST
DTSTART:20220402T160000
END:STANDARD
BEGIN:DAYLIGHT
TZOFFSETFROM:+1000
TZOFFSETTO:+1100
TZNAME:AEDT
DTSTART:20221001T160000
END:DAYLIGHT
BEGIN:STANDARD
TZOFFSETFROM:+1100
TZOFFSETTO:+1000
TZNAME:AEST
DTSTART:20230401T160000
END:STANDARD
BEGIN:DAYLIGHT
TZOFFSETFROM:+1000
TZOFFSETTO:+1100
TZNAME:AEDT
DTSTART:20230930T160000
END:DAYLIGHT
END:VTIMEZONE
BEGIN:VEVENT
DTSTART;TZID=Australia/Sydney:20220825T193000
DTEND;TZID=Australia/Sydney:20220825T213000
DTSTAMP:20260424T052619
CREATED:20220707T015834Z
LAST-MODIFIED:20220708T005111Z
UID:1332-1661455800-1661463000@mvcommunityforum.org.au
SUMMARY:MVCF August Meeting Thursday 25 August 2022
DESCRIPTION:Thank you to all the community members who joined us to discuss pets with the RSPCA and the new Coombs Community Centre. \nThank you to our speakers for the evening are: \n\nBrendan Arnold\, Communications & Engagement Officer\, RSPCA\nPip Northam\, Centre Manager\, YWCA Canberra\n\n\nDocuments and video of the meeting\nPresentation slides from the meeting\nVideo recording of the meeting \n\n\n\nNext meeting\n\nOur next meeting will be on Thursday 22 September 2022 at the usual time of 7:30pm
URL:https://mvcommunityforum.org.au/event/mvcf-june-meeting-thursday-25-august-2022/
LOCATION:Coombs Community Centre\, 110 Wodberry Ave\, Coombs\, ACT\, 2611\, Australia
CATEGORIES:MVCF Regular Public Meeting
END:VEVENT
BEGIN:VEVENT
DTSTART;TZID=Australia/Sydney:20220728T193000
DTEND;TZID=Australia/Sydney:20220728T213000
DTSTAMP:20260424T052619
CREATED:20220707T015319Z
LAST-MODIFIED:20220708T005220Z
UID:1325-1659036600-1659043800@mvcommunityforum.org.au
SUMMARY:MVCF July Meeting Thursday 28 July 2022
DESCRIPTION:Thank you to all the community members who joined us to discuss pets with the RSPCA and the new Coombs Community Centre. \nThank you to our speakers for the evening are: \n\nBrendan Arnold\, Communications & Engagement Officer\, RSPCA\nPip Northam\, Centre Manager\, YWCA Canberra\n\n\nDocuments and video of the meeting\nPresentation slides from the meeting\nVideo recording of the meeting \n\n\n\nNext meeting\n\nOur next meeting will be on Thursday 25 August 2022 at the usual time of 7:30pm
URL:https://mvcommunityforum.org.au/event/mvcf-june-meeting-thursday-23-june-2022-2/
LOCATION:Coombs Community Centre\, 110 Wodberry Ave\, Coombs\, ACT\, 2611\, Australia
CATEGORIES:MVCF Regular Public Meeting
END:VEVENT
BEGIN:VEVENT
DTSTART;TZID=Australia/Sydney:20220623T193000
DTEND;TZID=Australia/Sydney:20220623T193000
DTSTAMP:20260424T052619
CREATED:20220706T060451Z
LAST-MODIFIED:20220707T051947Z
UID:1282-1656012600-1656012600@mvcommunityforum.org.au
SUMMARY:MVCF June Meeting Thursday 23 June 2022
DESCRIPTION:Thank you to all the community members who joined us to discuss pets with the RSPCA and the new Coombs Community Centre. \nThank you to our speakers for the evening are: \n\nBrendan Arnold\, Communications & Engagement Officer\, RSPCA\nPip Northam\, Centre Manager\, YWCA Canberra\n\n\nDocuments and video of the meeting\nPresentation slides from the meeting \nVideo recording of the meeting \n\n\n\nNext meeting\n\nOur next meeting will be on Thursday 28 July 2022 at the usual time of 7:30pm in the new community centre – Coombs Community Centre\, 110 Woodberry Ave\, Coombs.
URL:https://mvcommunityforum.org.au/event/mvcf-june-meeting-thursday-23-june-2022/
LOCATION:Coombs Community Centre\, 110 Wodberry Ave\, Coombs\, ACT\, 2611\, Australia
CATEGORIES:MVCF Regular Public Meeting
ATTACH;FMTTYPE=image/jpeg:https://mvcommunityforum.org.au/wp-content/uploads/2022/07/IMG_1806-1024x576-2.jpeg
END:VEVENT
BEGIN:VEVENT
DTSTART;TZID=Australia/Sydney:20220526T193000
DTEND;TZID=Australia/Sydney:20220526T213000
DTSTAMP:20260424T052619
CREATED:20220707T045045Z
LAST-MODIFIED:20220707T051947Z
UID:1369-1653593400-1653600600@mvcommunityforum.org.au
SUMMARY:MVCF May Meeting Thursday 26 May 2022
DESCRIPTION:Thank you to all the community members who joined us to discuss community services in the Molonglo Valley. Thank you to our speakers for the evening: \n\nZakia Patel\, Regional Managing Director\, Multicultural Hub Canberra & Regional NSW\nAdam Poulter\, Deputy CEO\, ACT Council of Social Service (ACTCOSS)\nMichael Malone\, Community Development Officer – New & Emerging Communities\, Communities at Work\nKatie Peek\, Manager – Community Development and Engagement\, Woden Community Service\n\n\nDocuments and video of the meeting\nPresentation slides from the meeting \nVideo recording of the meeting \n\n\n\nNext meeting\n\nOur next meeting will be on Thursday 23 June 2022 at the usual time of 7:30pm with the location to be confirmed.
URL:https://mvcommunityforum.org.au/event/mvcf-may-meeting-thursday-26-may-2022/
LOCATION:Denman Village Community\, 5 Felstead Vis\, Denman Prospect\, ACT\, 2611\, Australia
CATEGORIES:MVCF Regular Public Meeting
ATTACH;FMTTYPE=image/jpeg:https://mvcommunityforum.org.au/wp-content/uploads/2022/07/IMG_1806-1024x576-2.jpeg
END:VEVENT
BEGIN:VEVENT
DTSTART;TZID=Australia/Sydney:20220428T193000
DTEND;TZID=Australia/Sydney:20220428T213000
DTSTAMP:20260424T052619
CREATED:20220707T045323Z
LAST-MODIFIED:20220707T051947Z
UID:1378-1651174200-1651181400@mvcommunityforum.org.au
SUMMARY:MVCF April Meeting Thursday 28 April 2022
DESCRIPTION:Thank you to all the community members who joined us last night in person or online to discuss the proposed Coombs Oval fence and unpack the Molonglo Group Centre Technical Amendment plans. \nWe apologise for the streaming issues and have included a link to the presentation and speaking notes below. \n\nThank you to our speakers for the evening: \n\nAndrew Parkinson\, Infrastructure and Capital Works\,  ACT Education Directorate\nRyan Hemsley\, Convenor\, Molonglo Valley Community Forum\n\nProviding Feedback\nIf you have comments on the proposed Coombs Oval fence you can provide comments or feedback by email to ACT.Education@act.gov.au by close of business on Monday 2 May 2022.  \nFor comments about the Technical Amendment\, email terrplan@act.gov.au by Friday 6 May 2022. \nAlternatively\, email the MVCF your feedback/comments 48 hours prior to the above deadlines at info@mvcommunityforum.org.au \nDocuments and video of the meeting\nPresentation slides from the meeting\nRyan’s speaking notes \nApologies for the poor recordings\nVideo recording of the meeting part 1\nVideo recording of the meeting part 2\nVideo recording of the meeting part 3 \n\n\n\nNext meeting\n\nOur next meeting will be on Thursday 26 May 2022 at the usual time of 7:30pm at the Denman Village Community Centre.
URL:https://mvcommunityforum.org.au/event/mvcf-april-meeting-thursday-28-april-2022/
LOCATION:Coombs Community Centre\, 110 Wodberry Ave\, Coombs\, ACT\, 2611\, Australia
CATEGORIES:MVCF Regular Public Meeting
ATTACH;FMTTYPE=image/jpeg:https://mvcommunityforum.org.au/wp-content/uploads/2022/07/IMG_1806-1024x576-2.jpeg
END:VEVENT
BEGIN:VEVENT
DTSTART;TZID=Australia/Sydney:20220324T193000
DTEND;TZID=Australia/Sydney:20220324T213000
DTSTAMP:20260424T052619
CREATED:20220707T045815Z
LAST-MODIFIED:20220707T051947Z
UID:1385-1648150200-1648157400@mvcommunityforum.org.au
SUMMARY:MVCF Public Meeting Thursday 24 March 2022
DESCRIPTION:Thank you to all the community members who joined us at the new Denman Village Community Centre for a coffee and chat\, followed by our public meeting. \nThank you to our speakers for the evening \n\n\nMinister for Health\, Minister for Health\, Rachel Stephen-Smith MLA\nIan Walker\, Executive Group Manager\, Environment\, Heritage and Water – ACT Conservator Flora and Fauna at Environment Planning and Sustainable Development Directorate\, ACT Government\nRyan Hemsley\, Convenor\, Molonglo Valley Community Forum\n\n\n\nDocuments and video of the meeting \n\n\nPresentation slides from the meeting\nVideo recording of the meeting\n  \nNext meeting\n\nOur next meeting will be on Thursday 28 April 2022 at the usual time of 7:30pm with the location to be confirmed.
URL:https://mvcommunityforum.org.au/event/mvcf-public-meeting-thursday-24-march-2022/
LOCATION:Coombs Community Centre\, 110 Wodberry Ave\, Coombs\, ACT\, 2611\, Australia
CATEGORIES:MVCF Regular Public Meeting
ATTACH;FMTTYPE=image/jpeg:https://mvcommunityforum.org.au/wp-content/uploads/2022/07/March-PM-2022-1024x576-1.jpg
END:VEVENT
BEGIN:VEVENT
DTSTART;TZID=Australia/Sydney:20220224T193000
DTEND;TZID=Australia/Sydney:20220224T213000
DTSTAMP:20260424T052619
CREATED:20220707T045754Z
LAST-MODIFIED:20220707T051947Z
UID:1388-1645731000-1645738200@mvcommunityforum.org.au
SUMMARY:MVCF Public Meeting Thursday 24 February 2022
DESCRIPTION:Thank you to all the community members who joined our first public meeting for 2022. \nThank you to our speakers for the evening \n\n\nSimon Tennent\, Molonglo Development Director from the Suburban Land Agency\nKen Marshall\, Executive Group Manager for City Services\nSarah Taylor-Dayus\, Executive Branch Manager for Planning and Delivery\, Transport Canberra\nIan McGlinn\, Executive Branch Manager for Bus Operations\, Transport Canberra\nStephen Alegria\, Executive Branch Manager for City Presentation\, City Services\nDr Marisa Paterson MLA\, Member for Murrumbidgee\nPeter Cain MLA\, Assistant Speaker\, Shadow Minister for Planning and Land Management\, Jobs and Workplace Affairs\, and Regulatory Services\, and Assistant Shadow Attorney-General and Assistant Shadow Treasurer\n\n\n\nDocuments and video of the meeting \n\n\nPresentation slides from the meeting\nVideo recording of the meeting\n  \nNext meeting\n\nOur next meeting will be on Thursday 24 March 2022 at the usual time of 7:30pm with the location to be confirmed.
URL:https://mvcommunityforum.org.au/event/mvcf-public-meeting-thursday-24-february-2022/
CATEGORIES:MVCF Regular Public Meeting
ATTACH;FMTTYPE=image/jpeg:https://mvcommunityforum.org.au/wp-content/uploads/2022/07/MVCF-Public-Meeting-Presentation-24-February-2022_Page_01-1024x576-1.jpeg
END:VEVENT
BEGIN:VEVENT
DTSTART;TZID=Australia/Sydney:20211118T193000
DTEND;TZID=Australia/Sydney:20211118T213000
DTSTAMP:20260424T052619
CREATED:20220707T045104Z
LAST-MODIFIED:20220707T051947Z
UID:1374-1637263800-1637271000@mvcommunityforum.org.au
SUMMARY:MVCF Public Meeting Thursday 18 November 2021
DESCRIPTION:Thank you to all the community members who joined our online November public meeting. \nThank you to our speakers for the evening: \n\n\nGuy Cassis and Jeff Dau\, ACT Fire & Rescue\nDr Alice Wells and Jean Caburn\, Bluetts Block\nDr Marisa Paterson MLA\, Member for Murrumbidgee\nGiulia Jones MLA\, Deputy Leader of the Opposition\, Shadow Minister for Health\, Mental Health and Wellbeing\, and Multicultural Affairs\, Member for Murrumbidgee\nPeter Cain MLA\, Assistant Speaker\, Shadow Minister for Planning and Land Management\, Jobs and Workplace Affairs\, and Regulatory Services\, and Assistant Shadow Attorney-General and Assistant Shadow Treasurer\n\n\n\nDocuments and video of the meeting \n\n\nPresentation slides from the meeting\nVideo recording of the meeting\nMolonglo Strategic Planning Advice\n\nNext meeting\n\nOur next meeting will be on Thursday 24 February 2022 at the usual time of 7:30pm with the location to be confirmed.
URL:https://mvcommunityforum.org.au/event/mvcf-public-meeting-thursday-18-november-2021/
LOCATION:Online
CATEGORIES:MVCF Regular Public Meeting
ATTACH;FMTTYPE=image/jpeg:https://mvcommunityforum.org.au/wp-content/uploads/2022/07/MVCF-Presentation-18-November-2021-Final_Page_30-1024x576-1.jpeg
END:VEVENT
BEGIN:VEVENT
DTSTART;TZID=Australia/Sydney:20211021T080000
DTEND;TZID=Australia/Sydney:20211021T170000
DTSTAMP:20260424T052619
CREATED:20220707T044628Z
LAST-MODIFIED:20220707T051947Z
UID:1367-1634803200-1634835600@mvcommunityforum.org.au
SUMMARY:MVCF AGM and Public Meeting Thursday 21 October 2021
DESCRIPTION:Thank you to all the community members who joined our online Annual General Meeting (AGM) and October public meeting. \nThank you to our speakers for the evening: \n\nSimon Tennent\, Development Director – Molonglo\, Suburban Land Agency\nEmma Davidson MLA\, Minister for Disability\, Justice Health\, Mental Health and Assistant Minister for Families and Community Services\, Member for Murrumbidgee\nGiulia Jones MLA\, Deputy Leader of the Opposition\, Shadow Minister for Health\, Mental Health and Wellbeing\, and Multicultural Affairs\, Member for Murrumbidgee\nPeter Cain MLA\, Assistant Speaker\, Shadow Minister for Planning and Land Management\, Jobs and Workplace Affairs\, and Regulatory Services\, and Assistant Shadow Attorney-General and Assistant Shadow Treasurer\n\nDocuments and video of the meeting \nPresentation slides from the meeting \nVideo recording of the meeting\n \nConsultation: Block 3 Section 53 Proposed Residential Development North Coombs \nLetter from Minister Steel – Coombs Activity Centre and Municipal Services \nLetter from Minister Stephen-Smith – Coombs Walk-In Centre \n  \nAnnual General Meeting \nAGM – Minutes from Meeting \nAGM – Auditor Letter \n\nNext meeting\nOur final meeting for the year is Thursday 18 November 2021 at the usual time of 7:30pm and may be held online.
URL:https://mvcommunityforum.org.au/event/mvcf-agm-and-public-meeting-thursday-21-october-2021/
LOCATION:Online
CATEGORIES:MVCF Regular Public Meeting
ATTACH;FMTTYPE=image/jpeg:https://mvcommunityforum.org.au/wp-content/uploads/2022/07/MVCF-Presentation-21-October-2021_Page_34-1024x578-1.jpeg
END:VEVENT
BEGIN:VEVENT
DTSTART;TZID=Australia/Sydney:20210916T193000
DTEND;TZID=Australia/Sydney:20210916T213000
DTSTAMP:20260424T052619
CREATED:20220707T042427Z
LAST-MODIFIED:20220707T051947Z
UID:1361-1631820600-1631827800@mvcommunityforum.org.au
SUMMARY:MVCF September Public Meeting Thursday 16 September
DESCRIPTION:Thank you to all the community members who joined our online September public meeting.Thank you to our speakers for the evening: \n\n\nDet Acting Inspector Chris Ball and Acting Superintendent Rod Anderson\, ACT Policing\n\n\nNichelle Jackson\, Canberra Town Planning and Anthony Cirillo\, Cirillo Design Pty Ltd\n\nDr Marisa Paterson MLA\, Member for Murrumbidgee\nGiulia Jones MLA\, Deputy Leader of the Opposition\, Shadow Minister for Health\, Mental Health and Wellbeing\, and Multicultural Affairs\, Member for Murrumbidgee\n\n\nDocuments and video of the meeting \n\n\nPresentation slides from the meeting\nVideo recording of the meeting\n\nConsultation: Block 1 Section 60 Proposed Residential Development North Coombs\nConsultation DA: Block 1 Section 59 Residential Development Molonglo Valley Coombs – Closes 17 September 2021\n\nNext meeting\n\nOur next meeting is our Annual General Meeting and will be on Thursday 21 October 2021 at the usual time of 7:30pm and may be held online.
URL:https://mvcommunityforum.org.au/event/mvcf-september-public-meeting-thursday-16-september/
LOCATION:Online
CATEGORIES:MVCF Regular Public Meeting
END:VEVENT
BEGIN:VEVENT
DTSTART;TZID=Australia/Sydney:20210715T193000
DTEND;TZID=Australia/Sydney:20210715T213000
DTSTAMP:20260424T052619
CREATED:20220707T020124Z
LAST-MODIFIED:20220707T051947Z
UID:1333-1626377400-1626384600@mvcommunityforum.org.au
SUMMARY:MVCF July Public Meeting Thursday 15 July
DESCRIPTION:Thank you to all the community members who attended or watched online our July public meeting\, and for being part of the conversation about the Coombs & Wright Village Plan and Framework. \nThank you to our speakers for the evening: \n\nSimon Tennent – Development Director – Molonglo\, Suburban Land Agency\nChris Steel MLA\, Minister for Transport and City Services\, Skills and Special Minister for State\, Member for Murrumbidgee\nEmma Davidson MLA\, Minister for Disability\, Justice Health\, Mental Health and Assistant Minister for Families and Community Services\, Member for Murrumbidgee\nDr Marisa Paterson MLA\, Member for Murrumbidgee\n\n\nDocuments and video of the meeting \n\n\nPresentation slides from the meeting\nCoombs & Wright Village Plan and Framework\nVideo recording of the meeting\n\nDraft constitution\nMembership Information\n\nNext meeting\n\nOur next meeting is on Thursday 19 August at the usual time of 7:30pm in the library at Charles Weston School Coombs.
URL:https://mvcommunityforum.org.au/event/mvcf-july-public-meeting-thursday-15-july/
LOCATION:Charles Weston School Coombs\, 80 Woodberry Ave\, Coombs\, ACT\, 2611\, Australia
CATEGORIES:MVCF Regular Public Meeting
ATTACH;FMTTYPE=image/jpeg:https://mvcommunityforum.org.au/wp-content/uploads/2022/07/15-July-Meeting-2021-1024x576-1.jpeg
END:VEVENT
BEGIN:VEVENT
DTSTART;TZID=Australia/Sydney:20210617T193000
DTEND;TZID=Australia/Sydney:20210617T213000
DTSTAMP:20260424T052619
CREATED:20220707T013859Z
LAST-MODIFIED:20220707T051947Z
UID:1317-1623958200-1623965400@mvcommunityforum.org.au
SUMMARY:MVCF June Public Meeting Thursday 17 June
DESCRIPTION:Young people of the Molonglo Valley helped convene the monthly Molonglo Valley Community Forum (MVCF) meeting on Thursday 17 June 2021. Students from Year 6 Charles Weston School Coombs chaired the meeting. \nAll community members were invited to attend and share ideas on how to make the Molonglo Valley better for young people of all ages. The attendees participated in a small group activity. \nThe activity’s objective was to inform the Forum and the community of any opportunities\, improvements\, or ideas regarding community\, liveability and accessibility for young people living in the Molonglo Valley. \nThank you to the community members who participated and to the students from Charles Weston School Coombs. \nThanks to Dr Marisa Paterson MLA and Minister Emma Davidson MLA for being part of the discussions and answering questions. Thanks to Mrs Giulia Jones MLA for watching online and meeting with the students at the end. \nWe have compiled a document from the meeting which will assist in informing our advocacy and discussions with the ACT Government on how to preserve and improve the social\, cultural\, economic and environmental wellbeing of the Molonglo Valley and its community. \n\nDocuments and video of the meeting\nMeeting Report – ideas from the young people and community of the Molonglo Valley\nVideo recording of the meeting  part 1\nVideo recording of the meeting  part 2\n\n\nNext meeting\n \n\nOur next meeting is on Thursday 15 July at the usual time of 7:30pm in the library at Charles Weston School Coombs. Simon Tennent\, Suburban Land Agency – Molonglo Development Director\, will be presenting on the Coombs and Wright Village Framework.
URL:https://mvcommunityforum.org.au/event/mvcf-june-public-meeting-thursday-17-june/
LOCATION:Charles Weston School Coombs\, 80 Woodberry Ave\, Coombs\, ACT\, 2611\, Australia
CATEGORIES:MVCF Regular Public Meeting
ATTACH;FMTTYPE=image/jpeg:https://mvcommunityforum.org.au/wp-content/uploads/2022/07/IMG_8923-e1624843316792-1024x509-1.jpeg
END:VEVENT
BEGIN:VEVENT
DTSTART;TZID=Australia/Sydney:20210520T200000
DTEND;TZID=Australia/Sydney:20210520T213000
DTSTAMP:20260424T052619
CREATED:20220707T012133Z
LAST-MODIFIED:20220707T051947Z
UID:1305-1621540800-1621546200@mvcommunityforum.org.au
SUMMARY:MVCF May Public Meeting Thursday 20 May
DESCRIPTION:Thank you to those who attended or watched online our meeting last night where we discussed policing and safety\, and the draft concept plan for the Molonglo Valley Commercial Centre. \nThank you to our speakers for the evening:\n\n\nRyan Hemsley\, Interim Spokesperson for the Molonglo Valley Community Forum\nJeremy Hanson CSC MLA\, Shadow Minister for Police and Emergency Services\, Education and Skills Early Childhood Education\, and Veterans Affairs\, Member for Murrumbidgee\nDr Marisa Paterson MLA\, Member for Murrumbidgee\nGiulia Jones MLA\, Deputy Leader of the Opposition\, Shadow Minister for Health\, Mental Health and Wellbeing\, and Multicultural Affairs\, Member for Murrumbidgee\n\nDocuments and video of the meeting\nPresentation slides from the meeting \nVideo recording of the meeting  \n\nNext meeting\n\nOur next meeting will be on Thursday 17 June 2021 in the library at Charles Weston School Coombs\, focussing on young people. We invite young people from our community to share their views and ideas with the Forum.
URL:https://mvcommunityforum.org.au/event/mvcf-may-public-meeting-thursday-20-may/
CATEGORIES:MVCF Regular Public Meeting
ATTACH;FMTTYPE=image/jpeg:https://mvcommunityforum.org.au/wp-content/uploads/2022/07/IMG_8606-002-scaled-e1621550516899-1024x489-1.jpeg
END:VEVENT
BEGIN:VEVENT
DTSTART;TZID=Australia/Sydney:20210422T200000
DTEND;TZID=Australia/Sydney:20210422T213000
DTSTAMP:20260424T052619
CREATED:20220707T011532Z
LAST-MODIFIED:20220707T051947Z
UID:1301-1619121600-1619127000@mvcommunityforum.org.au
SUMMARY:MVCF April Public Meeting Thursday 22 April
DESCRIPTION:Thank you to our community\, presenters and sponsors for attending our second public meeting and being part of the conversation about the future of the Molonglo Valley. \nThe evening wouldn’t be possible without our presenters\, so thank you to: \n\nChris Steel MLA\, Minister for Transport and City Services\, Skills and Special Minister for State\, Member for Murrumbidgee\nCatherine Townsend\, ACT Government Architect\nEmma Davidson MLA\, Minister for Disability\, Justice Health\, Mental Health and Assistant Minister for Families and Community Services\, Member for Murrumbidgee\nGiulia Jones MLA\, Deputy Leader of the Opposition\, Shadow Minister for Health\, Mental Health and Wellbeing\, and Multicultural Affairs\, Member for Murrumbidgee\nDr Marisa Paterson MLA\, Member for Murrumbidgee\n\n\nWe also thank our supporters Denman Prospect – Capital Estate Developments\, Newcast Studios and Molonglo Valley Mingle – Suburban Land Agency. \n\nDocuments and video of the meeting\nPlease find below the documentation promised at the meeting: \n\nPresentation from the meeting – slides\nLetter about the Molonglo Valley Commercial Centre\, Coombs Peninsula and Community Centre from Minister for Planning and Land Management\, Mick Gentleman MLA\nLetter about the walk-in centre from Minister for Health\, Rachel Stephen-Smith MLA \nMVCF Membership Information and Form\nMVCF Formation and Engagement Plan\nVideo of meeting\n\n\n\n\n\n\n\n\n\n\n\n\n\nCommunity Centre – Expression of interest\nAt our public meeting last night\, we were asked to provide information about what community groups would use a temporary community centre in the Molonglo Valley by Chris Steel MLA\, Minister for Transport and City Services\, Member for Murrumbidgee. \nAre you interested in accessing a community centre for your community group\, activity or event? \nHelp us by completing this expression of interest form.  \nhttps://forms.gle/qked73eRQSjrZK5r8
URL:https://mvcommunityforum.org.au/event/documents-mvcf-april-public-meeting/
CATEGORIES:MVCF Regular Public Meeting
ATTACH;FMTTYPE=image/jpeg:https://mvcommunityforum.org.au/wp-content/uploads/2022/07/MLAs-web-1024x576-1.jpeg
END:VEVENT
END:VCALENDAR